BEGIN:VCALENDAR
VERSION:2.0
PRODID:-//ChamberMaster//Event Calendar 2.0//EN
METHOD:PUBLISH
X-PUBLISHED-TTL:P3D
REFRESH-INTERVAL:P3D
CALSCALE:GREGORIAN
BEGIN:VEVENT
DTSTART:20101009T160000Z
DTEND:20101009T200000Z
X-MICROSOFT-CDO-ALLDAYEVENT:FALSE
SUMMARY:Tooele City Fire Dept. Open House
DESCRIPTION:Tooele City Fire Department Open House \n\n	 \n\n	Saturday\, October 9th from 10am-2pm
X-ALT-DESC;FMTTYPE=text/html:<p style="text-align: center">\n	<span style="font-size: 24px"><span style="font-family: tahoma">Tooele City Fire Department Open House </span></span><br />\n	&nbsp\;</p>\n<p style="text-align: center">\n	<span style="font-size: 24px"><span style="font-family: tahoma">Saturday\, October 9th from 10am-2pm </span></span><br />\n	&nbsp\;</p>\n
LOCATION:
UID:e.125.3250
SEQUENCE:3
DTSTAMP:20260422T221134Z
URL:https://business.tooelechamber.com/events/details/tooele-city-fire-dept-open-house-10-09-2010-3250
END:VEVENT

END:VCALENDAR
