BEGIN:VCALENDAR
VERSION:2.0
PRODID:-//ChamberMaster//Event Calendar 2.0//EN
METHOD:PUBLISH
X-PUBLISHED-TTL:P3D
REFRESH-INTERVAL:P3D
CALSCALE:GREGORIAN
BEGIN:VEVENT
DTSTART:20110901T010000Z
DTEND:20110901T030000Z
X-MICROSOFT-CDO-ALLDAYEVENT:FALSE
SUMMARY:Tooele City Meet the Candidates Night
DESCRIPTION:Tooele City Meet the Candidates Night \n\n	Wednesday\, August 31\, 2011 @ 7pm \n\n	Tooele City Hall\, Council Chambers \n\n	90 North Main Street\, Tooele \n\n	All 11 candidates will get 5 minutes to speak and the public will get to meet them afterward. \n\n	Prepare yourself before the primary election on \n\n	September 13th.
X-ALT-DESC;FMTTYPE=text/html:<p class="MsoNormal" style="text-align: center\; margin-bottom: 0pt\; mso-pagination: none">\n	<span style="font-size: 24px"><span lang="en-US" style="font-style: italic\; font-family: 'californian fb'\; font-weight: bold\; mso-default-font-family: 'californian fb'\; mso-ascii-font-family: 'californian fb'\; mso-latin-font-family: 'californian fb'\; language: en-us\; mso-ansi-language: en-us">Tooele City Meet the Candidates Night </span></span><br />\n	<span style="font-size: 24px"><span lang="en-US" style="font-family: 'californian fb'\; mso-default-font-family: 'californian fb'\; mso-ascii-font-family: 'californian fb'\; mso-latin-font-family: 'californian fb'\; language: en-us\; mso-ansi-language: en-us">Wednesday\, August 31\, 2011 @ 7pm </span></span><br />\n	<span style="font-size: 24px"><span lang="en-US" style="font-family: 'californian fb'\; mso-default-font-family: 'californian fb'\; mso-ascii-font-family: 'californian fb'\; mso-latin-font-family: 'californian fb'\; language: en-us\; mso-ansi-language: en-us">Tooele City Hall\, Council Chambers </span></span><br />\n	<span style="font-size: 24px"><span lang="en-US" style="font-family: 'californian fb'\; mso-default-font-family: 'californian fb'\; mso-ascii-font-family: 'californian fb'\; mso-latin-font-family: 'californian fb'\; language: en-us\; mso-ansi-language: en-us">90 North Main Street\, Tooele </span></span><br />\n	<span style="font-size: 24px"><span lang="en-US" style="font-family: 'californian fb'\; mso-default-font-family: 'californian fb'\; mso-ascii-font-family: 'californian fb'\; mso-latin-font-family: 'californian fb'\; language: en-us\; mso-ansi-language: en-us">All 11 candidates will get 5 minutes to speak and the public will get to meet them afterward. </span></span><br />\n	<span style="font-size: 24px"><span lang="en-US" style="font-family: 'californian fb'\; mso-default-font-family: 'californian fb'\; mso-ascii-font-family: 'californian fb'\; mso-latin-font-family: 'californian fb'\; language: en-us\; mso-ansi-language: en-us">Prepare yourself before the primary election on </span></span><br />\n	<span style="font-size: 24px"><span lang="en-US" style="font-family: 'californian fb'\; mso-default-font-family: 'californian fb'\; mso-ascii-font-family: 'californian fb'\; mso-latin-font-family: 'californian fb'\; language: en-us\; mso-ansi-language: en-us">September 13th. </span></span></p>\n<p class="MsoNormal" style="mso-pagination: none">\n	&nbsp\;</p>\n<p class="MsoNormal" style="mso-pagination: none">\n	<span lang="en-US" style="language: en-us"><span _fck_bookmark="1" style="display: none">&nbsp\;</span></span></p>\n
LOCATION:
UID:e.125.3871
SEQUENCE:3
DTSTAMP:20260422T064200Z
URL:https://business.tooelechamber.com/events/details/tooele-city-meet-the-candidates-night-08-31-2011-3871
END:VEVENT

END:VCALENDAR
