BEGIN:VCALENDAR
VERSION:2.0
PRODID:-//ChamberMaster//Event Calendar 2.0//EN
METHOD:PUBLISH
X-PUBLISHED-TTL:P3D
REFRESH-INTERVAL:P3D
CALSCALE:GREGORIAN
BEGIN:VEVENT
DTSTART:20080624T010000Z
DTEND:20080624T030000Z
X-MICROSOFT-CDO-ALLDAYEVENT:FALSE
SUMMARY:Tooele City Parks and Recreation
DESCRIPTION:Fun Family Walk sponsored by Tooele City Parks and Recreation.
X-ALT-DESC;FMTTYPE=text/html:Fun Family Walk sponsored by Tooele City Parks and Recreation.
LOCATION:England Acres Park
UID:e.125.435
SEQUENCE:3
DTSTAMP:20260424T202037Z
URL:https://business.tooelechamber.com/events/details/tooele-city-parks-and-recreation-06-23-2008-435
END:VEVENT

END:VCALENDAR
