BEGIN:VCALENDAR
VERSION:2.0
PRODID:-//ChamberMaster//Event Calendar 2.0//EN
METHOD:PUBLISH
X-PUBLISHED-TTL:P3D
REFRESH-INTERVAL:P3D
CALSCALE:GREGORIAN
BEGIN:VEVENT
DTSTART:20080312T153000Z
DTEND:20080312T173000Z
X-MICROSOFT-CDO-ALLDAYEVENT:FALSE
SUMMARY:Tooele County Army Depot Public Meeting
DESCRIPTION:Tooele Army Depot is hosting a public meeting to discuss the restoration activities with its Environmental and Base Realignment and Closure Programs. The Restoration Advisory Board/Technical Review Committee was established to bring together members of the local community and the Army\, and to provide the public with an opportunity to talk to experts about the work being performed on the Depot. RAB/TRC meetings are held three times a year. THE PUBLIC IS ENCOURAGED TO ATTEND.
X-ALT-DESC;FMTTYPE=text/html:<div>Tooele Army Depot is hosting a public meeting to discuss the restoration activities with its Environmental and Base Realignment and Closure Programs. The Restoration Advisory Board/Technical Review Committee was established to bring together members of the local community and the Army\, and to provide the public with an opportunity to talk to experts about the work being performed on the Depot. RAB/TRC meetings are held three times a year. THE PUBLIC IS ENCOURAGED TO ATTEND.</div>
LOCATION:Tooele County Health Department Auditorium151 North MainTooele
UID:e.125.239
SEQUENCE:3
DTSTAMP:20260424T234855Z
URL:https://business.tooelechamber.com/events/details/tooele-county-army-depot-public-meeting-03-12-2008-239
END:VEVENT

END:VCALENDAR
