BEGIN:VCALENDAR
VERSION:2.0
PRODID:-//ChamberMaster//Event Calendar 2.0//EN
METHOD:PUBLISH
X-PUBLISHED-TTL:P3D
REFRESH-INTERVAL:P3D
CALSCALE:GREGORIAN
BEGIN:VEVENT
DTSTART;VALUE=DATE:20080627
DTEND;VALUE=DATE:20080630
TRANSP:TRANSPARENT
X-MICROSOFT-CDO-ALLDAYEVENT:TRUE
SUMMARY:Tooele County Arts Festival
DESCRIPTION:Since 1985\, the Tooele Art's Festival has drawn visitors from around the country who are looking for one-of-a-kind artwork\, including paintings\, jewelry\, ceramics\, photographs\, sculptures\, and much more.Many new events\, outstanding entertainment\, enhanced children's art yard and other activities have been added to assure that this years' arts festival will be the BEST IN THE WEST.
X-ALT-DESC;FMTTYPE=text/html:<p>Since 1985\, the Tooele Art's Festival has drawn visitors from around the country who are looking for one-of-a-kind artwork\, including paintings\, jewelry\, ceramics\, photographs\, sculptures\, and much more.</p><p>Many new events\, outstanding entertainment\, enhanced children&rsquo\;s art yard and other activities have been added to assure that this years&rsquo\; arts festival will be the BEST IN THE WEST.</p><p>&nbsp\;</p>
LOCATION:Tooele City Park200 West Vine Street\, Tooele
UID:e.125.244
SEQUENCE:3
DTSTAMP:20260424T203728Z
URL:https://business.tooelechamber.com/events/details/tooele-county-arts-festival-06-27-2008-244
END:VEVENT

END:VCALENDAR
