BEGIN:VCALENDAR
VERSION:2.0
PRODID:-//ChamberMaster//Event Calendar 2.0//EN
METHOD:PUBLISH
X-PUBLISHED-TTL:P3D
REFRESH-INTERVAL:P3D
CALSCALE:GREGORIAN
BEGIN:VEVENT
DTSTART:20100211T000000Z
DTEND:20100211T010000Z
X-MICROSOFT-CDO-ALLDAYEVENT:FALSE
SUMMARY:Tooele County Caucus Meeting
DESCRIPTION:Tooele County Caucus MeetingWednesday\, February 10th - 5pmRoom 341    Utah State Capital Building
X-ALT-DESC;FMTTYPE=text/html:<div><p class="MsoNormal" align="center" style="margin: 0in 0in 0pt\; text-align: center"><span style="font-size: 13.5pt\; font-family: &quot\;Arial&quot\;\,&quot\;sans-serif&quot\;\; mso-fareast-font-family: 'Times New Roman'">Tooele County Caucus Meeting</span></p><p class="MsoNormal" align="center" style="margin: 0in 0in 0pt\; text-align: center"><span style="font-size: 13.5pt\; font-family: &quot\;Arial&quot\;\,&quot\;sans-serif&quot\;\; mso-fareast-font-family: 'Times New Roman'">Wednesday\, February 10th&nbsp\;- 5pm</span><span style="font-size: 10pt\; font-family: &quot\;Arial&quot\;\,&quot\;sans-serif&quot\;\; mso-fareast-font-family: 'Times New Roman'"><o:p></o:p></span></p><p class="MsoNormal" align="center" style="margin: 0in 0in 0pt\; text-align: center"><span style="font-size: 13.5pt\; font-family: &quot\;Arial&quot\;\,&quot\;sans-serif&quot\;\; mso-fareast-font-family: 'Times New Roman'">Room 341&nbsp\;&nbsp\;&nbsp\; </span></p><p class="MsoNormal" align="center" style="margin: 0in 0in 0pt\; text-align: center"><span style="font-size: 13.5pt\; font-family: &quot\;Arial&quot\;\,&quot\;sans-serif&quot\;\; mso-fareast-font-family: 'Times New Roman'">Utah State Capital Building</span><span style="font-size: 10pt\; font-family: &quot\;Arial&quot\;\,&quot\;sans-serif&quot\;\; mso-fareast-font-family: 'Times New Roman'"><o:p></o:p></span></p></div>
LOCATION:
UID:e.125.3095
SEQUENCE:3
DTSTAMP:20260423T105431Z
URL:https://business.tooelechamber.com/events/details/tooele-county-caucus-meeting-02-10-2010-3095
END:VEVENT

END:VCALENDAR
