BEGIN:VCALENDAR
VERSION:2.0
PRODID:-//ChamberMaster//Event Calendar 2.0//EN
METHOD:PUBLISH
X-PUBLISHED-TTL:P3D
REFRESH-INTERVAL:P3D
CALSCALE:GREGORIAN
BEGIN:VEVENT
DTSTART:20120228T000000Z
DTEND:20120228T020000Z
X-MICROSOFT-CDO-ALLDAYEVENT:FALSE
SUMMARY:Tooele County Caucus Meeting
DESCRIPTION:Tooele County Caucus\n\n Meeting\n\n@ State Capitol Building\n\n5 p.m.- 7 p.m.\n\nThe public is invited to attend\n\nand discuss topics with our\n\ngovernment representatives.
X-ALT-DESC;FMTTYPE=text/html:<span style="font-size: 20px"><strong>Tooele County Caucus<br />\n&nbsp\;Meeting<br />\n@ State Capitol Building<br />\n5 p.m.- 7 p.m.<br />\nThe public is invited to attend<br />\nand discuss topics with our<br />\ngovernment representatives.<span _fck_bookmark="1" style="display: none">&nbsp\;</span></strong></span>
LOCATION:
UID:e.125.4794
SEQUENCE:3
DTSTAMP:20260421T220628Z
URL:https://business.tooelechamber.com/events/details/tooele-county-caucus-meeting-02-27-2012-4794
END:VEVENT

END:VCALENDAR
