BEGIN:VCALENDAR
VERSION:2.0
PRODID:-//ChamberMaster//Event Calendar 2.0//EN
METHOD:PUBLISH
X-PUBLISHED-TTL:P3D
REFRESH-INTERVAL:P3D
CALSCALE:GREGORIAN
BEGIN:VEVENT
DTSTART:20120214T000000Z
DTEND:20120214T020000Z
X-MICROSOFT-CDO-ALLDAYEVENT:FALSE
SUMMARY:Tooele County Caucus Meetings
DESCRIPTION:Tooele County Caucus\n\n Meeting\n\n@ State Capitol Building\n\n5 p.m.- 7 p.m.\n\nThe public is invited to attend\n\nand discuss topics with our\n\ngovernment representatives.
X-ALT-DESC;FMTTYPE=text/html:<strong><span style="font-size: 20px">Tooele County Caucus<br />\n&nbsp\;Meeting<br />\n@ State Capitol Building<br />\n5 p.m.- 7 p.m.<br />\nThe public is invited to attend<br />\nand discuss topics with our<br />\ngovernment representatives.</span></strong>
LOCATION:
UID:e.125.4793
SEQUENCE:3
DTSTAMP:20260421T203406Z
URL:https://business.tooelechamber.com/events/details/tooele-county-caucus-meetings-02-13-2012-4793
END:VEVENT

END:VCALENDAR
