BEGIN:VCALENDAR
VERSION:2.0
PRODID:-//ChamberMaster//Event Calendar 2.0//EN
METHOD:PUBLISH
X-PUBLISHED-TTL:P3D
REFRESH-INTERVAL:P3D
CALSCALE:GREGORIAN
BEGIN:VEVENT
DTSTART:20140613T140000Z
DTEND:20140613T180000Z
X-MICROSOFT-CDO-ALLDAYEVENT:FALSE
SUMMARY:Tooele County Chamber of Commerce Annual Golf Tournament
DESCRIPTION:Sponsors Needed!\n\nGold: $1500\n\nSilver: $1000\n\nBronze: $750\n\nAnd Many other Sponsorship oprotunities big and small!\n\nGreat Prizes Including:\n\nReclynder\n\nFire Arms\n\nCross Bows\n\nTraeger smoker \n\nRemote Controlled Airplanes\n\nAnd more!\n\nContact The Chamber at:\n\ncody@tooelechamber.com\n\nor (435) 882-0690\n\nfor more details.
X-ALT-DESC;FMTTYPE=text/html:<span style="background-image:initial\;background-attachment:initial\;background-size:initial\;background-origin:initial\;background-clip:initial\;background-position:initial\;background-repeat:initial\;"><span style="color:red\;"><span style="font-family:calibri\,sans-serif\;"><span style="font-size:14pt\;">Sponsors Needed!</span></span></span></span><br />\n<span style="background-image:initial\;background-attachment:initial\;background-size:initial\;background-origin:initial\;background-clip:initial\;background-position:initial\;background-repeat:initial\;"><span style="color:red\;"><span style="font-family:calibri\,sans-serif\;"><span style="font-size:14pt\;">Gold: $1500</span></span></span></span><br />\n<span style="background-image:initial\;background-attachment:initial\;background-size:initial\;background-origin:initial\;background-clip:initial\;background-position:initial\;background-repeat:initial\;"><span style="color:red\;"><span style="font-family:calibri\,sans-serif\;"><span style="font-size:14pt\;">Silver: $1000</span></span></span></span><br />\n<span style="background-image:initial\;background-attachment:initial\;background-size:initial\;background-origin:initial\;background-clip:initial\;background-position:initial\;background-repeat:initial\;"><span style="color:red\;"><span style="font-family:calibri\,sans-serif\;"><span style="font-size:14pt\;">Bronze: $750</span></span></span></span><br />\n<span style="background-image:initial\;background-attachment:initial\;background-size:initial\;background-origin:initial\;background-clip:initial\;background-position:initial\;background-repeat:initial\;"><span style="color:red\;"><span style="font-family:calibri\,sans-serif\;"><span style="font-size:14pt\;">And Many other Sponsorship oprotunities big and small!</span></span></span></span><br />\n<strong><span style="background-image:initial\;background-attachment:initial\;background-size:initial\;background-origin:initial\;background-clip:initial\;background-position:initial\;background-repeat:initial\;"><span style="color:red\;"><span style="font-family:calibri\,sans-serif\;"><span style="font-size:14pt\;">Great Prizes Including:</span></span></span></span></strong><br />\n<strong><span style="background-image:initial\;background-attachment:initial\;background-size:initial\;background-origin:initial\;background-clip:initial\;background-position:initial\;background-repeat:initial\;"><span style="color:red\;"><span style="font-family:calibri\,sans-serif\;"><span style="font-size:14pt\;">Reclynder</span></span></span></span></strong><br />\n<strong><span style="background-image:initial\;background-attachment:initial\;background-size:initial\;background-origin:initial\;background-clip:initial\;background-position:initial\;background-repeat:initial\;"><span style="color:red\;"><span style="font-family:calibri\,sans-serif\;"><span style="font-size:14pt\;">Fire Arms</span></span></span></span></strong><br />\n<strong><span style="background-image:initial\;background-attachment:initial\;background-size:initial\;background-origin:initial\;background-clip:initial\;background-position:initial\;background-repeat:initial\;"><span style="color:red\;"><span style="font-family:calibri\,sans-serif\;"><span style="font-size:14pt\;">Cross Bows</span></span></span></span></strong><br />\n<strong><span style="background-image:initial\;background-attachment:initial\;background-size:initial\;background-origin:initial\;background-clip:initial\;background-position:initial\;background-repeat:initial\;"><span style="color:red\;"><span style="font-family:calibri\,sans-serif\;"><span style="font-size:14pt\;">Traeger smoker </span></span></span></span></strong><br />\n<strong><span style="background-image:initial\;background-attachment:initial\;background-size:initial\;background-origin:initial\;background-clip:initial\;background-position:initial\;background-repeat:initial\;"><span style="color:red\;"><span style="font-family:calibri\,sans-serif\;"><span style="font-size:14pt\;">Remote Controlled Airplanes</span></span></span></span></strong><br />\n<strong><span style="background-image:initial\;background-attachment:initial\;background-size:initial\;background-origin:initial\;background-clip:initial\;background-position:initial\;background-repeat:initial\;"><span style="color:red\;"><span style="font-family:calibri\,sans-serif\;"><span style="font-size:14pt\;">And more!</span></span></span></span></strong><br />\n<span style="background-image:initial\;background-attachment:initial\;background-size:initial\;background-origin:initial\;background-clip:initial\;background-position:initial\;background-repeat:initial\;"><span style="color:red\;"><span style="font-family:calibri\,sans-serif\;"><span style="font-size:14pt\;">Contact The Chamber at:</span></span></span></span><br />\n<a href="mailto:cody@tooelechamber.com"><span style="background-image:initial\;background-attachment:initial\;background-size:initial\;background-origin:initial\;background-clip:initial\;background-position:initial\;background-repeat:initial\;"><span style="font-family:calibri\,sans-serif\;"><span style="font-size:14pt\;">cody@tooelechamber.com</span></span></span></a><br />\n<span style="background-image:initial\;background-attachment:initial\;background-size:initial\;background-origin:initial\;background-clip:initial\;background-position:initial\;background-repeat:initial\;"><span style="color:red\;"><span style="font-family:calibri\,sans-serif\;"><span style="font-size:14pt\;">or (435) 882-0690</span></span></span></span><br />\n<span style="background-image:initial\;background-attachment:initial\;background-size:initial\;background-origin:initial\;background-clip:initial\;background-position:initial\;background-repeat:initial\;"><span style="color:red\;"><span style="font-family:calibri\,sans-serif\;"><span style="font-size:14pt\;">for more details.</span></span></span></span>
LOCATION:Oquirrh HIlls Golf Course 125 East Vine Street Tooele\, UT 84074
UID:e.125.5310
SEQUENCE:3
DTSTAMP:20260419T184207Z
URL:https://business.tooelechamber.com/events/details/tooele-county-chamber-of-commerce-annual-golf-tournament-06-13-2014-5310
END:VEVENT

END:VCALENDAR
