BEGIN:VCALENDAR
VERSION:2.0
PRODID:-//ChamberMaster//Event Calendar 2.0//EN
METHOD:PUBLISH
X-PUBLISHED-TTL:P3D
REFRESH-INTERVAL:P3D
CALSCALE:GREGORIAN
BEGIN:VEVENT
DTSTART:20120802T180000Z
DTEND:20120804T180000Z
X-MICROSOFT-CDO-ALLDAYEVENT:FALSE
SUMMARY:Tooele County Fair
DESCRIPTION:Tooele County Fair\n\nAug. 2-4\, 2012\n\nfor more information\n\ngo to Tooelefair.com
X-ALT-DESC;FMTTYPE=text/html:<strong><span style="font-size: 24px"><u>Tooele County Fair</u><br />\nAug. 2-4\, 2012<br />\nfor more information<br />\ngo to Tooelefair.com</span></strong>
LOCATION:
UID:e.125.4867
SEQUENCE:3
DTSTAMP:20260421T103331Z
URL:https://business.tooelechamber.com/events/details/tooele-county-fair-08-02-2012-4867
END:VEVENT

END:VCALENDAR
