BEGIN:VCALENDAR
VERSION:2.0
PRODID:-//ChamberMaster//Event Calendar 2.0//EN
METHOD:PUBLISH
X-PUBLISHED-TTL:P3D
REFRESH-INTERVAL:P3D
CALSCALE:GREGORIAN
BEGIN:VEVENT
DTSTART;VALUE=DATE:20090730
DTEND;VALUE=DATE:20090802
TRANSP:TRANSPARENT
X-MICROSOFT-CDO-ALLDAYEVENT:TRUE
SUMMARY:Tooele County Fair & Livestock Show.
DESCRIPTION:Tooele County Fair & Livestock Show.Contact: 435-241-0037www.deseretpeakcomplex.com
X-ALT-DESC;FMTTYPE=text/html:<div><font face="Frutiger-LightCn" size="1"><font face="Frutiger-LightCn" size="1"><p align="center"><font size="4">Tooele County Fair &amp\; Livestock Show.</font></p><p align="center"><font size="4">Contact: 435-241-0037</font></p><p align="center"><font size="4">www.deseretpeakcomplex.com</font></p></font></font></div>
LOCATION:
UID:e.125.1212
SEQUENCE:3
DTSTAMP:20260423T200315Z
URL:https://business.tooelechamber.com/events/details/tooele-county-fair-livestock-show-07-30-2009-1212
END:VEVENT

END:VCALENDAR
