BEGIN:VCALENDAR
VERSION:2.0
PRODID:-//ChamberMaster//Event Calendar 2.0//EN
METHOD:PUBLISH
X-PUBLISHED-TTL:P3D
REFRESH-INTERVAL:P3D
CALSCALE:GREGORIAN
BEGIN:VEVENT
DTSTART;VALUE=DATE:20140624
DTEND;VALUE=DATE:20140625
TRANSP:TRANSPARENT
X-MICROSOFT-CDO-ALLDAYEVENT:TRUE
SUMMARY:Tooele County Primary Election
DESCRIPTION:
X-ALT-DESC;FMTTYPE=text/html:
LOCATION:
UID:e.125.5330
SEQUENCE:3
DTSTAMP:20260419T181754Z
URL:https://business.tooelechamber.com/events/details/tooele-county-primary-election-06-24-2014-5330
END:VEVENT

END:VCALENDAR
