BEGIN:VCALENDAR
VERSION:2.0
PRODID:-//ChamberMaster//Event Calendar 2.0//EN
METHOD:PUBLISH
X-PUBLISHED-TTL:P3D
REFRESH-INTERVAL:P3D
CALSCALE:GREGORIAN
BEGIN:VEVENT
DTSTART:20090821T040000Z
DTEND:20090820T230000Z
X-MICROSOFT-CDO-ALLDAYEVENT:FALSE
SUMMARY:Tooele County Relief Service Open House
DESCRIPTION:Open House & Ribbon CuttingThursday\, August 20th- 10 am- 5 pmTooele County Relief Services Open House23 South Main Suite 31 \, Tooele
X-ALT-DESC;FMTTYPE=text/html:<div style="text-align: center"><span style="font-size: medium">Open House &amp\; Ribbon Cutting</span></div><div style="text-align: center"><span style="font-size: medium">Thursday\, August 20th- 10 am- 5 pm</span></div><div style="text-align: center"><span style="font-size: medium">Tooele County Relief Services Open House</span></div><div style="text-align: center"><span style="font-size: medium">23 South Main Suite 31 \, Tooele</span></div><div style="">&nbsp\;</div>
LOCATION:
UID:e.125.2555
SEQUENCE:3
DTSTAMP:20260423T200136Z
URL:https://business.tooelechamber.com/events/details/tooele-county-relief-service-open-house-08-20-2009-2555
END:VEVENT

END:VCALENDAR
