BEGIN:VCALENDAR
VERSION:2.0
PRODID:-//ChamberMaster//Event Calendar 2.0//EN
METHOD:PUBLISH
X-PUBLISHED-TTL:P3D
REFRESH-INTERVAL:P3D
CALSCALE:GREGORIAN
BEGIN:VEVENT
DTSTART:20080423T000000Z
DTEND:20080423T000000Z
X-MICROSOFT-CDO-ALLDAYEVENT:FALSE
SUMMARY:Tooele Financial Management Classes
DESCRIPTION:April 15\, 22 & 296-9 pmPublic invitedNo charge for these classes
X-ALT-DESC;FMTTYPE=text/html:<div>April 15\, 22 &amp\; 29</div><div>6-9 pm</div><div>Public invited</div><div>No charge for these classes</div>
LOCATION:Tooele County Health Department151 No. Main\, Tooele
UID:e.125.250
SEQUENCE:3
DTSTAMP:20260424T232158Z
URL:https://business.tooelechamber.com/events/details/tooele-financial-management-classes-04-22-2008-250
END:VEVENT

END:VCALENDAR
