BEGIN:VCALENDAR
VERSION:2.0
PRODID:-//ChamberMaster//Event Calendar 2.0//EN
METHOD:PUBLISH
X-PUBLISHED-TTL:P3D
REFRESH-INTERVAL:P3D
CALSCALE:GREGORIAN
BEGIN:VEVENT
DTSTART;VALUE=DATE:20120928
DTEND;VALUE=DATE:20121001
TRANSP:TRANSPARENT
X-MICROSOFT-CDO-ALLDAYEVENT:TRUE
SUMMARY:Tooele Rendezvous
DESCRIPTION:SEPTEMBER 28-30 @ TOOELE CITY COMPLEX\n\n(DOW JAMES)\n\n400 NORTH 500 WEST\n\nTOOELE RENDEZVOUS\n\n\n\n19TH ANNUAL AMERICAN\n\nHERITAGE FESTIVAL MOUNTIAN MAN\n\nRENDEZVOUS AND BLACK POWDER FUN SHOOT\n\n\n\nFOR MORE INFORMATION CALL.\n\n(435)231-0074 OR (801)554-0527
X-ALT-DESC;FMTTYPE=text/html:<strong><span style="font-size: 16px">SEPTEMBER&nbsp\;28-30 @ TOOELE CITY COMPLEX<br />\n(DOW JAMES)<br />\n400 NORTH 500 WEST<br />\nTOOELE RENDEZVOUS<br />\n<br />\n19TH ANNUAL AMERICAN<br />\nHERITAGE FESTIVAL MOUNTIAN MAN<br />\nRENDEZVOUS AND BLACK POWDER FUN SHOOT<br />\n<br />\nFOR MORE INFORMATION CALL.<br />\n(435)231-0074 OR (801)554-0527</span></strong><br />\n<br />\n
LOCATION:
UID:e.125.4882
SEQUENCE:3
DTSTAMP:20260421T090016Z
URL:https://business.tooelechamber.com/events/details/tooele-rendezvous-09-28-2012-4882
END:VEVENT

END:VCALENDAR
