BEGIN:VCALENDAR
VERSION:2.0
PRODID:-//ChamberMaster//Event Calendar 2.0//EN
METHOD:PUBLISH
X-PUBLISHED-TTL:P3D
REFRESH-INTERVAL:P3D
CALSCALE:GREGORIAN
BEGIN:VEVENT
DTSTART:20140813T170000Z
DTEND:20140813T200000Z
X-MICROSOFT-CDO-ALLDAYEVENT:FALSE
SUMMARY:Tooele's Utah Independent Living Center Open House
DESCRIPTION:Tooele's Utah Independent Living Center Invites you to an Open House.\n\nRefreshments will be provided.\n\nThey assist people with disabilities of all ages to become more independent.\n\nCome learn how we may be able to help you!
X-ALT-DESC;FMTTYPE=text/html:Tooele&#39\;s Utah Independent Living Center Invites you to an Open House.<br />\nRefreshments will be provided.<br />\nThey assist people with disabilities of all ages to become more independent.<br />\nCome learn how we may be able to help you!
LOCATION:42 South Main Street Tooele\, UT 84074 (across the alley from the Food Bank)
UID:e.125.5376
SEQUENCE:3
DTSTAMP:20260419T163005Z
URL:https://business.tooelechamber.com/events/details/tooele-s-utah-independent-living-center-open-house-08-13-2014-5376
END:VEVENT

END:VCALENDAR
