BEGIN:VCALENDAR
VERSION:2.0
PRODID:-//ChamberMaster//Event Calendar 2.0//EN
METHOD:PUBLISH
X-PUBLISHED-TTL:P3D
REFRESH-INTERVAL:P3D
CALSCALE:GREGORIAN
BEGIN:VEVENT
DTSTART;VALUE=DATE:20080911
DTEND;VALUE=DATE:20080914
TRANSP:TRANSPARENT
X-MICROSOFT-CDO-ALLDAYEVENT:TRUE
SUMMARY:Tooele Showcase of Homes
DESCRIPTION:Sept. 11\, 12\, 13-Tooele County\n Showcase of Homes\n Watch for discount coupons\n For more information: \n 435-241-0410
X-ALT-DESC;FMTTYPE=text/html:<p align="center"><font size="4">Sept. 11\, 12\, 13-Tooele County<br />&nbsp\;Showcase of Homes<br />&nbsp\;Watch for discount coupons</font><font face="times new roman\,times" size="4"><br />&nbsp\;For more information: <br />&nbsp\;435-241-0410</font></p>
LOCATION:
UID:e.125.465
SEQUENCE:3
DTSTAMP:20260424T141323Z
URL:https://business.tooelechamber.com/events/details/tooele-showcase-of-homes-09-11-2008-465
END:VEVENT

END:VCALENDAR
