BEGIN:VCALENDAR
VERSION:2.0
PRODID:-//ChamberMaster//Event Calendar 2.0//EN
METHOD:PUBLISH
X-PUBLISHED-TTL:P3D
REFRESH-INTERVAL:P3D
CALSCALE:GREGORIAN
BEGIN:VEVENT
DTSTART:20120819T010000Z
DTEND:20120819T040000Z
X-MICROSOFT-CDO-ALLDAYEVENT:FALSE
SUMMARY:Tooele Special needs Fundrasier
DESCRIPTION:TOOELE SPECIAL NEEDS FUNDRAISER\n\n\n\nSATURDAY AUGUST 18\,2012\n\n7 TO 10 PM\n\nAGES 16 TO 116!\n\n\n\nICE CREAM AND DESSERT SOCIAL.\n\n50'S SOCK HOP\n\nSILENT AUCTION\n\nLIVE ENTERTAINMENT\n\n\n\nLOCATION: TOOELE SENIOR CENTER\n\n59 EAST VINE STREET\n\n\n\nTICKERS: $25.00\n\nTICKETS CAN BE PURCHASED AR THE SENIOR CITIZEN'S CENTER OR BY CALLING GINGER AT (801)390-3790 OR EMAIL tsnfund@gmail.com AND AT THE DOOR.
X-ALT-DESC;FMTTYPE=text/html:<span style="font-size: 16px"><u><strong>TOOELE SPECIAL NEEDS FUNDRAISER</strong></u></span><br />\n<br />\n<span style="font-size: 14px">SATURDAY AUGUST 18\,2012<br />\n7 TO 10 PM<br />\nAGES 16 TO 116!<br />\n<br />\nICE CREAM AND DESSERT SOCIAL.<br />\n50&#39\;S SOCK HOP<br />\nSILENT AUCTION<br />\nLIVE ENTERTAINMENT<br />\n<br />\nLOCATION: TOOELE SENIOR CENTER<br />\n59 EAST VINE STREET<br />\n<br />\nTICKERS: $25.00<br />\nTICKETS CAN BE PURCHASED AR THE SENIOR CITIZEN&#39\;S CENTER OR BY CALLING GINGER AT (801)390-3790 OR EMAIL tsnfund@gmail.com AND AT THE DOOR.</span><br />\n
LOCATION:
UID:e.125.4922
SEQUENCE:3
DTSTAMP:20260421T103416Z
URL:https://business.tooelechamber.com/events/details/tooele-special-needs-fundrasier-08-18-2012-4922
END:VEVENT

END:VCALENDAR
