BEGIN:VCALENDAR
VERSION:2.0
PRODID:-//ChamberMaster//Event Calendar 2.0//EN
METHOD:PUBLISH
X-PUBLISHED-TTL:P3D
REFRESH-INTERVAL:P3D
CALSCALE:GREGORIAN
BEGIN:VEVENT
DTSTART:20090822T003000Z
DTEND:20090822T020000Z
X-MICROSOFT-CDO-ALLDAYEVENT:FALSE
SUMMARY:Tour of Utah
DESCRIPTION:Stage 3 of the Tour of Utah presented by Zions Bank.    Miller Motorsports park Individual Time Trial.   This 10 mile time trial loop course starts and finishes at the Miller Motorsports Park\, a world-class race track\, in Tooele\, UT
X-ALT-DESC;FMTTYPE=text/html:<div>Stage 3 of the Tour of Utah presented by Zions Bank.&nbsp\;&nbsp\;&nbsp\; Miller Motorsports park Individual Time Trial.&nbsp\;&nbsp\; This 10 mile time trial loop course starts and finishes at the Miller Motorsports Park\, a world-class race track\, in Tooele\, UT</div>
LOCATION:Miller Motorsports Park\, Sheep Lane\, Tooele\, UT
UID:e.125.2550
SEQUENCE:3
DTSTAMP:20260423T215130Z
URL:https://business.tooelechamber.com/events/details/tour-of-utah-08-21-2009-2550
END:VEVENT

END:VCALENDAR
