BEGIN:VCALENDAR
VERSION:2.0
PRODID:-//ChamberMaster//Event Calendar 2.0//EN
METHOD:PUBLISH
X-PUBLISHED-TTL:P3D
REFRESH-INTERVAL:P3D
CALSCALE:GREGORIAN
BEGIN:VEVENT
DTSTART:20140214T090000Z
DTEND:20140214T100000Z
X-MICROSOFT-CDO-ALLDAYEVENT:FALSE
SUMMARY:Town Council
DESCRIPTION:
X-ALT-DESC;FMTTYPE=text/html:
LOCATION:18 N Johnson Stckton\, Utah
UID:e.125.5668
SEQUENCE:3
DTSTAMP:20260420T015027Z
URL:https://business.tooelechamber.com/events/details/town-council-02-14-2014-5668
END:VEVENT

END:VCALENDAR
