BEGIN:VCALENDAR
VERSION:2.0
PRODID:-//ChamberMaster//Event Calendar 2.0//EN
METHOD:PUBLISH
X-PUBLISHED-TTL:P3D
REFRESH-INTERVAL:P3D
CALSCALE:GREGORIAN
BEGIN:VEVENT
DTSTART:20131201T003000Z
DTEND:20131201T040000Z
X-MICROSOFT-CDO-ALLDAYEVENT:FALSE
SUMMARY:Toys for Tots - Pictures with Santa
DESCRIPTION:Toys for Tots to benefit Tooele County.  \nCost $10/child or $30/family of four or more\nPhoto w/santa\, small craft and treat.
X-ALT-DESC;FMTTYPE=text/html:Toys for Tots to benefit Tooele County.  \nCost $10/child or $30/family of four or more\nPhoto w/santa\, small craft and treat.
LOCATION:Tooele Senior Center - 59 E Vine St\, Tooele
UID:e.125.5686
SEQUENCE:3
DTSTAMP:20260420T080227Z
URL:https://business.tooelechamber.com/events/details/toys-for-tots-pictures-with-santa-11-30-2013-5686
END:VEVENT

END:VCALENDAR
