BEGIN:VCALENDAR
VERSION:2.0
PRODID:-//ChamberMaster//Event Calendar 2.0//EN
METHOD:PUBLISH
X-PUBLISHED-TTL:P3D
REFRESH-INTERVAL:P3D
CALSCALE:GREGORIAN
BEGIN:VEVENT
DTSTART;VALUE=DATE:20080607
DTEND;VALUE=DATE:20080608
TRANSP:TRANSPARENT
X-MICROSOFT-CDO-ALLDAYEVENT:TRUE
SUMMARY:Tracks Canyon Clean Up
DESCRIPTION:Tracks Canyon Clean up come help us clean up one of our local canyons
X-ALT-DESC;FMTTYPE=text/html:<div><span style="font-size: 12pt\; font-family: &quot\;Times New Roman&quot\;\; mso-fareast-font-family: 'Times New Roman'\; mso-font-kerning: 14.0pt\; mso-ansi-language: EN-US\; mso-fareast-language: EN-US\; mso-bidi-language: AR-SA">Tracks Canyon Clean up come help us clean up one of our local canyons </span></div>
LOCATION:
UID:e.125.400
SEQUENCE:3
DTSTAMP:20260424T201831Z
URL:https://business.tooelechamber.com/events/details/tracks-canyon-clean-up-06-07-2008-400
END:VEVENT

END:VCALENDAR
