BEGIN:VCALENDAR
VERSION:2.0
PRODID:-//ChamberMaster//Event Calendar 2.0//EN
METHOD:PUBLISH
X-PUBLISHED-TTL:P3D
REFRESH-INTERVAL:P3D
CALSCALE:GREGORIAN
BEGIN:VEVENT
DTSTART:20110703T010000Z
DTEND:20110703T040000Z
X-MICROSOFT-CDO-ALLDAYEVENT:FALSE
SUMMARY:Ty Herndon and Charley Jenkins in Concert
DESCRIPTION:Ty Herndon and Charley Jenkins in Concert and fireworks\n\n	Saturday\, July 2\, 2011 @ 7pm\n\n	Tooele High School Football Field\n\n	Tickets are $5 for general admission bleacher seating. Tickets available after June 1st at Tooele City Hall and Macey's Food & Drug. Gates will open at 6pm.
X-ALT-DESC;FMTTYPE=text/html:<p style="text-align: center">\n	<span style="font-size: 26px">Ty Herndon and Charley Jenkins in Concert and fireworks<br />\n	Saturday\, July 2\, 2011 @ 7pm<br />\n	Tooele High School Football Field<br />\n	Tickets are $5 for general admission bleacher seating. Tickets available after June 1st at Tooele City Hall and Macey&#39\;s Food &amp\; Drug. Gates will open at 6pm.</span></p>\n
LOCATION:
UID:e.125.3713
SEQUENCE:3
DTSTAMP:20260422T075516Z
URL:https://business.tooelechamber.com/events/details/ty-herndon-and-charley-jenkins-in-concert-07-02-2011-3713
END:VEVENT

END:VCALENDAR
