BEGIN:VCALENDAR
VERSION:2.0
PRODID:-//ChamberMaster//Event Calendar 2.0//EN
METHOD:PUBLISH
X-PUBLISHED-TTL:P3D
REFRESH-INTERVAL:P3D
CALSCALE:GREGORIAN
BEGIN:VEVENT
DTSTART:20101003T003000Z
DTEND:20101003T020000Z
X-MICROSOFT-CDO-ALLDAYEVENT:FALSE
SUMMARY:Unmasking Addition
DESCRIPTION:Teen Challenge of the Rocky Mountains & New Hope House invite You to a Fundraising Banquet\n\n	Unmasking Addiction\n\n	Saturday\, October 2\, 2010\nLocation: Holy Trinity Greek Orthodox Church\n\n279 South 300 West\, SLC\n\nHors d' oeuvres - 6:30pm ~ Dinner and program 7:00pm\n\nMeal Cost - $50\n\nFor more information: (435)843-5602
X-ALT-DESC;FMTTYPE=text/html:<p style="text-align: center">\n	<span style="font-size: 20px">Teen Challenge of the Rocky Mountains &amp\; New Hope House invite You to a Fundraising Banquet</span></p>\n<p style="text-align: center">\n	<span style="font-size: 20px">Unmasking Addiction</span></p>\n<p style="text-align: center">\n	<span style="font-size: 20px">Saturday\, October 2\, 2010</span></p>\n<span style="font-size: 20px">Location: Holy Trinity Greek Orthodox Church<br />\n279 South 300 West\, SLC<br />\nHors d&#39\; oeuvres - 6:30pm ~ Dinner and program 7:00pm<br />\nMeal Cost - $50<br />\nFor more information: (435)843-5602</span><br />\n
LOCATION:
UID:e.125.3242
SEQUENCE:3
DTSTAMP:20260422T220108Z
URL:https://business.tooelechamber.com/events/details/unmasking-addition-10-02-2010-3242
END:VEVENT

END:VCALENDAR
