BEGIN:VCALENDAR
VERSION:2.0
PRODID:-//ChamberMaster//Event Calendar 2.0//EN
METHOD:PUBLISH
X-PUBLISHED-TTL:P3D
REFRESH-INTERVAL:P3D
CALSCALE:GREGORIAN
BEGIN:VEVENT
DTSTART:20100720T140000Z
DTEND:20100720T160000Z
X-MICROSOFT-CDO-ALLDAYEVENT:FALSE
SUMMARY:Using Social Media Marketing to Promote Your Business
DESCRIPTION:Tuesday\, July 20\, 2010 @ 8am "Using Social Media Marketing to Promote Your Business" Presented by: John Houston Optimize internet tools to build your business and profits Location: Tooele County Emergency Managment Building NO CHARGE for this event!!
X-ALT-DESC;FMTTYPE=text/html:<div style="text-align: center"><span style="font-size: medium">Tuesday\, July 20\, 2010 @ 8am </span></div><div style="text-align: center"><span style="font-size: medium">&quot\;Using Social Media Marketing to Promote Your Business&quot\; </span></div><div style="text-align: center"><span style="font-size: medium">Presented by: John Houston </span></div><div style="text-align: center"><span style="font-size: medium">Optimize internet tools to build your business and profits </span></div><div style="text-align: center"><span style="font-size: medium">Location: Tooele County Emergency Managment Building </span></div><div style="text-align: center"><span style="font-size: medium">NO CHARGE for this event!!</span></div><div><span style="font-size: large">&nbsp\;</span></div>
LOCATION:
UID:e.125.3193
SEQUENCE:3
DTSTAMP:20260423T032908Z
URL:https://business.tooelechamber.com/events/details/using-social-media-marketing-to-promote-your-business-07-20-2010-3193
END:VEVENT

END:VCALENDAR
