BEGIN:VCALENDAR
VERSION:2.0
PRODID:-//ChamberMaster//Event Calendar 2.0//EN
METHOD:PUBLISH
X-PUBLISHED-TTL:P3D
REFRESH-INTERVAL:P3D
CALSCALE:GREGORIAN
BEGIN:VEVENT
DTSTART;VALUE=DATE:20090429
DTEND;VALUE=DATE:20090430
TRANSP:TRANSPARENT
X-MICROSOFT-CDO-ALLDAYEVENT:TRUE
SUMMARY:USU Granduation Ceremony
DESCRIPTION:USU Granduation CeremonyWednesday\, April 29th- 7 pm\nTooele High School Auditorium\n301 W. Vine\, Tooele\nCome Support the Local Graduates\n435- 882-6611
X-ALT-DESC;FMTTYPE=text/html:<p align="center">&nbsp\;<font face="Arial" size="2"><font face="Arial"><strong><font style="font-size: 14pt\; text-decoration: underline" face="Arial" size="2">USU Granduation Ceremony</font></strong></font></font></p><p align="center">Wednesday\, April 29th- 7 pm<br />Tooele High School Auditorium<br />301 W. Vine\, Tooele<br />Come Support the Local Graduates<br />435- 882-6611</p>
LOCATION:
UID:e.125.2520
SEQUENCE:3
DTSTAMP:20260424T023230Z
URL:https://business.tooelechamber.com/events/details/usu-granduation-ceremony-04-29-2009-2520
END:VEVENT

END:VCALENDAR
