BEGIN:VCALENDAR
VERSION:2.0
PRODID:-//ChamberMaster//Event Calendar 2.0//EN
METHOD:PUBLISH
X-PUBLISHED-TTL:P3D
REFRESH-INTERVAL:P3D
CALSCALE:GREGORIAN
BEGIN:VEVENT
DTSTART;VALUE=DATE:20120428
DTEND;VALUE=DATE:20120429
TRANSP:TRANSPARENT
X-MICROSOFT-CDO-ALLDAYEVENT:TRUE
SUMMARY:Utah Grand Prix- Nascar K & N Pro Series West
DESCRIPTION:Utah Grand Prix Nascar K&N Pro Series West\n\nApril 28th and 29th\n\nThe thundering stock cars of NASCAR K&N Pro Series West headline Miller Motorsports\n\nPark's premiere automobile road racing weekend\, with drivers who are accustomed to\n\nturning left only trying to cope with one of America's finest road racing tracks. \n\nSupport races include the SCCA Pro Racing World Challenge Championship\,\n\nthe SCCA Pro Racing Trans- Am Championship\, the IMSA GT3 Challenge by\n\nYokohama and the Pirelli Cup. A great variety of cars and fun for the whole family!
X-ALT-DESC;FMTTYPE=text/html:<span style="font-size: 18px"><strong><u><span style="font-size: 20px">Utah Grand Prix Nascar K&amp\;N Pro Series West<br />\nApril 28th and 29th</span></u><br />\nThe thundering stock cars of NASCAR K&amp\;N Pro Series West headline Miller Motorsports<br />\nPark&#39\;s premiere automobile road racing weekend\, with drivers who are accustomed to<br />\nturning left only trying to cope with one of America&#39\;s finest road racing tracks.&nbsp\;<br />\nSupport races include the SCCA Pro Racing World Challenge Championship\,<br />\nthe SCCA Pro Racing Trans- Am Championship\, the IMSA GT3 Challenge by<br />\nYokohama and the Pirelli Cup. A great variety of cars and fun for the whole family!</strong></span>
LOCATION:
UID:e.125.4795
SEQUENCE:3
DTSTAMP:20260421T192018Z
URL:https://business.tooelechamber.com/events/details/utah-grand-prix-nascar-k-n-pro-series-west-04-28-2012-4795
END:VEVENT

END:VCALENDAR
