BEGIN:VCALENDAR
VERSION:2.0
PRODID:-//ChamberMaster//Event Calendar 2.0//EN
METHOD:PUBLISH
X-PUBLISHED-TTL:P3D
REFRESH-INTERVAL:P3D
CALSCALE:GREGORIAN
BEGIN:VEVENT
DTSTART:20101015T010000Z
DTEND:20101015T020000Z
X-MICROSOFT-CDO-ALLDAYEVENT:FALSE
SUMMARY:Utah Poet's Society
DESCRIPTION:October 14th at 7pm \n\n	Utah Poet's Society: Oquirrh Chapter \n\n	Light refreshments will be served \n\n	  all are welcome. \n\n	For more info contact: \n\n	Marney Zambrano at mezbooker@yahoo.com
X-ALT-DESC;FMTTYPE=text/html:<p style="text-align: center">\n	&nbsp\;</p>\n<p style="text-align: center">\n	<b><font size="5">October 14</font><font size="3">th </font><font size="5">at 7pm </font></b></p>\n<p style="text-align: center">\n	<font face="Times New Roman\,Times New Roman" size="4"><font face="Times New Roman\,Times New Roman" size="4">Utah Poet&rsquo\;s Society: </font></font><i><font face="Times New Roman\,Times New Roman" size="4"><font face="Times New Roman\,Times New Roman" size="4">Oquirrh Chapter </font></font></i></p>\n<p style="text-align: center">\n	<font face="Times New Roman\,Times New Roman" size="3"><font face="Times New Roman\,Times New Roman" size="3">Light refreshments will be served </font></font></p>\n<p style="text-align: center">\n	<font face="Times New Roman\,Times New Roman" size="3"><font face="Times New Roman\,Times New Roman" size="3">&ndash\; all are welcome. </font></font></p>\n<p style="text-align: center">\n	<font face="Times New Roman\,Times New Roman" size="3"><font face="Times New Roman\,Times New Roman" size="3">For more info contact: </font></font></p>\n<p style="text-align: center">\n	<font face="Times New Roman\,Times New Roman" size="3"><font face="Times New Roman\,Times New Roman" size="3">Marney Zambrano at mezbooker@yahoo.com </font></font></p>\n
LOCATION:
UID:e.125.3260
SEQUENCE:3
DTSTAMP:20260422T222432Z
URL:https://business.tooelechamber.com/events/details/utah-poet-s-society-10-14-2010-3260
END:VEVENT

END:VCALENDAR
