BEGIN:VCALENDAR
VERSION:2.0
PRODID:-//ChamberMaster//Event Calendar 2.0//EN
METHOD:PUBLISH
X-PUBLISHED-TTL:P3D
REFRESH-INTERVAL:P3D
CALSCALE:GREGORIAN
BEGIN:VEVENT
DTSTART;VALUE=DATE:20090908
DTEND;VALUE=DATE:20090909
TRANSP:TRANSPARENT
X-MICROSOFT-CDO-ALLDAYEVENT:TRUE
SUMMARY:VMH PARENTING CLASS
DESCRIPTION:Valley Mental Health of Tooele is committed to improving\, enhancing and strengthening individuals\, families\, and community lives.  One way we do this is by providing a parenting class where fathers and mothers can come together and improve their parenting skills. The parenting class is a eight-week course that helps parents better understand their child's development\, learn ways to strengthening the parent-child relationship\, and refine their non-abusive discipline methods.  We encourage all parents to bring their concerns and questions to class and learn how the information provided will apply to their personal situations. The next 8-week class will be held at our facility located at 100 S 1000 W\, Tooele\, every Tuesday from  6:00   7:30 p.m.\, Sept 8-Oct 27\, 2009. The cost of this course is $72\, or Medicaid is accepted for full coverage of cost (for open clients).  PCN insurance is not accepted.   For more information callValley Mental Health of Tooele.843-3520
X-ALT-DESC;FMTTYPE=text/html:<div><p class="MsoBodyText" style="margin: 0in 0in 0pt"><span style="font-size: x-small"><span style=""><font face="Times New Roman">Valley Mental Health of Tooele is committed to improving\, enhancing and strengthening individuals\, families\, and community lives.<span style="mso-spacerun: yes">&nbsp\; </span>One way we do this is by providing a parenting class where fathers and mothers can come together and improve their parenting skills.</font></span></span><span style="font-size: 18pt"><font face="Times New Roman"><o:p></o:p></font></span></p><p class="MsoNormal" align="center" style="margin: 0in 0in 0pt\; text-align: center"><span style="font-size: smaller"><span><o:p><span style="font-size: x-small"><font face="Times New Roman">&nbsp\;</font></span></o:p></span></span></p><span style="font-size: x-small"><p class="MsoNormal" align="center" style="margin: 0in 0in 0pt\; text-align: center"><o:p></o:p></p><p class="MsoBodyText" style="margin: 0in 0in 0pt"><span style=""><font face="Times New Roman">The parenting class is a eight-week course that helps parents better understand their child&rsquo\;s development\, learn ways to strengthening the parent-child relationship\, and refine their non-abusive discipline methods.<span style="mso-spacerun: yes">&nbsp\; </span>We encourage all parents to bring their concerns and questions to class and learn how the information provided will apply to their </font></span></p></span><p class="MsoBodyText" style="margin: 0in 0in 0pt"><span style="font-size: 18pt"><font face="Times New Roman"><o:p></o:p></font></span></p><p class="MsoBodyText" style="margin: 0in 0in 0pt"><span style="font-size: x-small"><span style=""><font face="Times New Roman">personal situations.</font></span></span><span style="font-size: 18pt"><font face="Times New Roman"><o:p></o:p></font></span></p><p class="MsoNormal" align="center" style="margin: 0in 0in 0pt\; text-align: center"><span style="font-size: smaller"><span><o:p><span style="font-size: x-small"><font face="Times New Roman">&nbsp\;</font></span></o:p></span></span></p><span style="font-size: x-small"><p class="MsoNormal" align="center" style="margin: 0in 0in 0pt\; text-align: center"><o:p></o:p></p><p class="MsoNormal" align="center" style="margin: 0in 0in 0pt\; text-align: center"><span style=""><font face="Times New Roman">The next <u>8-week class</u> will be held at our facility located at <u>100 S 1000 W\, Tooele</u>\, every Tuesday from <span style="mso-spacerun: yes">&nbsp\;</span><u>6:00 &ndash\; 7:30 p.m</u>.\, <b style="mso-bidi-font-weight: normal">Sept 8-Oct 27\, 2009</b>. </font></span></p></span><p class="MsoNormal" align="center" style="margin: 0in 0in 0pt\; text-align: center"><span style="font-size: 18pt"><font face="Times New Roman"><o:p></o:p></font></span></p><p class="MsoNormal" align="center" style="margin: 0in 0in 0pt\; text-align: center"><span style="font-size: x-small"><span style=""><font face="Times New Roman">The cost of this course is $72\, </font></span></span><span style="font-size: 18pt"><font face="Times New Roman"><o:p></o:p></font></span></p><p class="MsoNormal" align="center" style="margin: 0in 0in 0pt\; text-align: center"><span style="font-size: x-small"><span style=""><font face="Times New Roman">or Medicaid is accepted for full coverage of cost (for open clients).<span style="mso-spacerun: yes">&nbsp\; </span>PCN insurance is not accepted.<span style="mso-spacerun: yes">&nbsp\; </span></font></span></span><span style="font-size: 18pt"><font face="Times New Roman"><o:p></o:p></font></span></p><p class="MsoNormal" align="center" style="margin: 0in 0in 0pt\; text-align: center"><span style="font-size: smaller"><span style="font-family: &quot\;Cooper Lt BT&quot\;"><o:p><span style="font-size: x-small"><font face="Times New Roman">&nbsp\;</font></span></o:p></span></span></p><span style="font-size: x-small"><p class="MsoNormal" align="center" style="margin: 0in 0in 0pt\; text-align: center"><span style="font-family: &quot\;Cooper Lt BT&quot\;"><o:p></o:p></span></p><h2 style="margin: 0in 0in 0pt"><span style="font-family: &quot\;Cooper Lt BT&quot\;\; mso-bidi-font-size: 12.0pt"><font face="Times New Roman">For more information call</font></span></h2></span><h2 style="margin: 0in 0in 0pt"><span style="font-size: 18pt\; font-family: &quot\;Cooper Lt BT&quot\;\; mso-bidi-font-size: 12.0pt"><font face="Times New Roman"><o:p></o:p></font></span></h2><h2 style="margin: 0in 0in 0pt"><span style="font-size: x-small"><span style="font-family: &quot\;Cooper Lt BT&quot\;\; mso-bidi-font-size: 12.0pt"><font face="Times New Roman">Valley Mental Health of Tooele.</font></span></span><span style="font-size: 18pt\; font-family: &quot\;Cooper Lt BT&quot\;\; mso-bidi-font-size: 12.0pt"><font face="Times New Roman"><o:p></o:p></font></span></h2><h2 style="margin: 0in 0in 0pt"><span style="font-size: x-small"><span style="font-family: &quot\;Cooper Lt BT&quot\;\; mso-bidi-font-size: 12.0pt"><font face="Times New Roman">843-3520</font></span></span><span style="font-size: 18pt\; font-family: &quot\;Cooper Lt BT&quot\;\; mso-bidi-font-size: 12.0pt"><font face="Times New Roman"><o:p></o:p></font></span></h2></div>
LOCATION:
UID:e.125.2570
SEQUENCE:3
DTSTAMP:20260423T193939Z
URL:https://business.tooelechamber.com/events/details/vmh-parenting-class-09-08-2009-2570
END:VEVENT

END:VCALENDAR
