BEGIN:VCALENDAR
VERSION:2.0
PRODID:-//ChamberMaster//Event Calendar 2.0//EN
METHOD:PUBLISH
X-PUBLISHED-TTL:P3D
REFRESH-INTERVAL:P3D
CALSCALE:GREGORIAN
BEGIN:VEVENT
DTSTART;VALUE=DATE:20081127
DTEND;VALUE=DATE:20081128
TRANSP:TRANSPARENT
X-MICROSOFT-CDO-ALLDAYEVENT:TRUE
SUMMARY:Volunteers & Donations Needed
DESCRIPTION:Nov. 27th- Tooele Thanksgiving Dinner\n Tooele Rotary & Kiwanis will organize a dinner\n for those in need. \n If you would\n like to volunteer \n or donate\,\n please call the Chamber 435-882-0690
X-ALT-DESC;FMTTYPE=text/html:<p align="center"><font color="#ff6600" size="5">&nbsp\;Nov. 27th- Tooele Thanksgiving Dinner<br />&nbsp\;Tooele Rotary &amp\; Kiwanis will organize a dinner<br />&nbsp\;for those in need. </font><font style="font-size: 12pt"><br /><font color="#ff6600" size="5">&nbsp\;If you would<br />&nbsp\;like to volunteer <br />&nbsp\;or donate\,<br />&nbsp\;please call the Chamber </font></font></p><p align="center"><font style="font-size: 12pt"><font color="#ff6600" size="5">435-882-0690</font></font></p>
LOCATION:
UID:e.125.484
SEQUENCE:3
DTSTAMP:20260424T101118Z
URL:https://business.tooelechamber.com/events/details/volunteers-donations-needed-11-27-2008-484
END:VEVENT

END:VCALENDAR
