BEGIN:VCALENDAR
VERSION:2.0
PRODID:-//ChamberMaster//Event Calendar 2.0//EN
METHOD:PUBLISH
X-PUBLISHED-TTL:P3D
REFRESH-INTERVAL:P3D
CALSCALE:GREGORIAN
BEGIN:VEVENT
DTSTART;VALUE=DATE:20110625
DTEND;VALUE=DATE:20110626
TRANSP:TRANSPARENT
X-MICROSOFT-CDO-ALLDAYEVENT:TRUE
SUMMARY:Wendover Air Show
DESCRIPTION:Wendover Air Show\n\n	Saturday\, June 25\, 2011\n\n	www.wendoverairbase.com
X-ALT-DESC;FMTTYPE=text/html:<p style="text-align: center">\n	<span style="font-size: 20px">Wendover Air Show<br />\n	Saturday\, June 25\, 2011<br />\n	<a href="http://www.wendoverairbase.com">www.wendoverairbase.com</a> </span></p>\n
LOCATION:
UID:e.125.3541
SEQUENCE:3
DTSTAMP:20260422T091421Z
URL:https://business.tooelechamber.com/events/details/wendover-air-show-06-25-2011-3541
END:VEVENT

END:VCALENDAR
