BEGIN:VCALENDAR
VERSION:2.0
PRODID:-//ChamberMaster//Event Calendar 2.0//EN
METHOD:PUBLISH
X-PUBLISHED-TTL:P3D
REFRESH-INTERVAL:P3D
CALSCALE:GREGORIAN
BEGIN:VEVENT
DTSTART;VALUE=DATE:20120922
DTEND;VALUE=DATE:20120923
TRANSP:TRANSPARENT
X-MICROSOFT-CDO-ALLDAYEVENT:TRUE
SUMMARY:Wendover Air Show 2012
DESCRIPTION:Don't miss the 2012 Historic Wendover Air Show!  Please mark September 22nd on your calendar. It will be another fabulous year of family fun!  Don't miss our exciting mix of performers and static aircraft.  Don't forget your lawn chairs and sunscreen!\n\n		\n\n		Gate open at 9am\n\n		Adults $10 Youth 7-12 years old $5
X-ALT-DESC;FMTTYPE=text/html:<div>\n	<p class="MsoNormal" style="margin: 0in 0in 10pt">\n		<span style="font-size: medium"><span style="font-size: large"><span style="line-height: 115%"><font face="Calibri"><font color="#000000">Don&#39\;t miss the 2012 Historic Wendover Air Show! &nbsp\;Please mark September 22nd on your calendar. It will be another fabulous year of family fun! &nbsp\;Don&#39\;t miss our exciting mix of performers and static aircraft.&nbsp\; Don&#39\;t forget your lawn chairs and sunscreen!<br />\n		<br />\n		Gate open at 9am<br />\n		Adults $10 Youth 7-12 years old $5</font></font></span></span></span><br />\n		&nbsp\;</p>\n	<p class="MsoNormal" style="margin: 0in 0in 10pt">\n		&nbsp\;</p>\n	<hr style="text-align: center" />\n</div>\n
LOCATION:Historic Wendover Air Field
UID:e.125.4868
SEQUENCE:3
DTSTAMP:20260421T090204Z
URL:https://business.tooelechamber.com/events/details/wendover-air-show-2012-09-22-2012-4868
END:VEVENT

END:VCALENDAR
