BEGIN:VCALENDAR
VERSION:2.0
PRODID:-//ChamberMaster//Event Calendar 2.0//EN
METHOD:PUBLISH
X-PUBLISHED-TTL:P3D
REFRESH-INTERVAL:P3D
CALSCALE:GREGORIAN
BEGIN:VEVENT
DTSTART;VALUE=DATE:20120528
DTEND;VALUE=DATE:20120529
TRANSP:TRANSPARENT
X-MICROSOFT-CDO-ALLDAYEVENT:TRUE
SUMMARY:World Superbike BigM Weekend- AMA Pro Road Racing
DESCRIPTION:World Superbike BigM Weekend-  AMA Pro Road Racing\n\nMay 26-28\n\nThe BigM Weekend is Utah's Memorial Day tradition\, mixing motorcycles\, music and military. \n\nThe Superbike World Championship returns for a fifth year\, making it's only visit in the\n\nWestern Hemisphere at Miller Motorsports Park.  The production-based bullet bikes from Yamaha\, Ducati\,\n\nHonda\, BMW\, Suzuki\, Kawasaki and Aprilia will battle up to 200 mph with some of the world's best riders\n\ndragging their knees and banging elbows.  The weekend will include America's best AMA Pro Road Racing\,\n\nplus live music and a major military tribute.
X-ALT-DESC;FMTTYPE=text/html:<span style="font-size: 18px"><strong><span style="font-size: 20px"><u>World Superbike BigM Weekend-&nbsp\; AMA Pro Road Racing<br />\nMay 26-28</u></span><br />\nThe BigM Weekend is Utah&#39\;s Memorial Day tradition\, mixing motorcycles\, music and military.&nbsp\;<br />\nThe Superbike World Championship returns for a fifth year\, making it&#39\;s only visit in the<br />\nWestern Hemisphere at Miller Motorsports Park.&nbsp\; The production-based bullet bikes from Yamaha\, Ducati\,<br />\nHonda\, BMW\, Suzuki\, Kawasaki and Aprilia will battle up to 200 mph with some of the world&#39\;s best riders<br />\ndragging their knees and banging elbows.&nbsp\; The weekend will include America&#39\;s best AMA Pro Road Racing\,<br />\nplus live music and a major military tribute.<span _fck_bookmark="1" style="display: none">&nbsp\;</span></strong></span>
LOCATION:
UID:e.125.4799
SEQUENCE:3
DTSTAMP:20260421T161036Z
URL:https://business.tooelechamber.com/events/details/world-superbike-bigm-weekend-ama-pro-road-racing-05-28-2012-4799
END:VEVENT

END:VCALENDAR
